BEGIN:VCALENDAR
VERSION:2.0
PRODID:-//wp-events-plugin.com//7.0.5//EN
TZID:Europe/Berlin
X-WR-TIMEZONE:Europe/Berlin
BEGIN:VEVENT
UID:62@freibad-oestringen.de
DTSTART;TZID=Europe/Berlin:20260322T120000
DTEND;TZID=Europe/Berlin:20260322T170000
DTSTAMP:20260305T090805Z
URL:https://www.freibad-oestringen.de/events/verkaufsoffener-sonntag-3/
SUMMARY:Verkaufsoffener Sonntag
DESCRIPTION:Ihr findet einen Infostand über unser Freibad und Verein diese
 s Jahr bei der Feuerwehr Östringen!
END:VEVENT
BEGIN:VTIMEZONE
TZID:Europe/Berlin
X-LIC-LOCATION:Europe/Berlin
BEGIN:STANDARD
DTSTART:20251026T020000
TZOFFSETFROM:+0200
TZOFFSETTO:+0100
TZNAME:CET
END:STANDARD
END:VTIMEZONE
END:VCALENDAR