BEGIN:VCALENDAR
VERSION:2.0
PRODID:-//wp-events-plugin.com//7.0.5//EN
TZID:Europe/Berlin
X-WR-TIMEZONE:Europe/Berlin
BEGIN:VEVENT
UID:65@freibad-oestringen.de
DTSTART;TZID=Europe/Berlin:20260730T190000
DTEND;TZID=Europe/Berlin:20260731T090000
DTSTAMP:20260305T091530Z
URL:https://www.freibad-oestringen.de/events/freibad-uebernachtung-5/
SUMMARY:Freibad-Übernachtung
DESCRIPTION:Wenn das Wetter nicht wieder unsere Pläne durchkreuzt\, treffe
 n wir uns nach Badeschluss mit Isomatte und Zelt am Beckenrand für eine u
 nvergleichliche Nacht mit Schwimmen open end\, Feuerschale und Stockbrot u
 nd schlafen unterm Sternenhimmel
END:VEVENT
BEGIN:VTIMEZONE
TZID:Europe/Berlin
X-LIC-LOCATION:Europe/Berlin
BEGIN:DAYLIGHT
DTSTART:20260329T030000
TZOFFSETFROM:+0100
TZOFFSETTO:+0200
TZNAME:CEST
END:DAYLIGHT
END:VTIMEZONE
END:VCALENDAR