BEGIN:VCALENDAR
VERSION:2.0
PRODID:-//wp-events-plugin.com//7.0.5//EN
TZID:Europe/Berlin
X-WR-TIMEZONE:Europe/Berlin
BEGIN:VEVENT
UID:63@freibad-oestringen.de
DTSTART;TZID=Europe/Berlin:20260812T093000
DTEND;TZID=Europe/Berlin:20260812T130000
DTSTAMP:20260312T080346Z
URL:https://www.freibad-oestringen.de/events/ferienfreizeit/
SUMMARY:Ferienfreizeit
DESCRIPTION:Unsere Kathi wird auch dieses Jahr wieder Kreatives für Kids i
 m Freibad im Rahmen der Ferienfreizeit der Stadt anbieten.
END:VEVENT
BEGIN:VTIMEZONE
TZID:Europe/Berlin
X-LIC-LOCATION:Europe/Berlin
BEGIN:DAYLIGHT
DTSTART:20260329T030000
TZOFFSETFROM:+0100
TZOFFSETTO:+0200
TZNAME:CEST
END:DAYLIGHT
END:VTIMEZONE
END:VCALENDAR